BEGIN:VCALENDAR
VERSION:2.0
PRODID:-//ONDA F.C. - ECPv6.15.20//NONSGML v1.0//EN
CALSCALE:GREGORIAN
METHOD:PUBLISH
X-ORIGINAL-URL:https://staging.ondafc.es
X-WR-CALDESC:Events for ONDA F.C.
REFRESH-INTERVAL;VALUE=DURATION:PT1H
X-Robots-Tag:noindex
X-PUBLISHED-TTL:PT1H
BEGIN:VTIMEZONE
TZID:Europe/Amsterdam
BEGIN:DAYLIGHT
TZOFFSETFROM:+0100
TZOFFSETTO:+0200
TZNAME:CEST
DTSTART:20240331T010000
END:DAYLIGHT
BEGIN:STANDARD
TZOFFSETFROM:+0200
TZOFFSETTO:+0100
TZNAME:CET
DTSTART:20241027T010000
END:STANDARD
BEGIN:DAYLIGHT
TZOFFSETFROM:+0100
TZOFFSETTO:+0200
TZNAME:CEST
DTSTART:20250330T010000
END:DAYLIGHT
BEGIN:STANDARD
TZOFFSETFROM:+0200
TZOFFSETTO:+0100
TZNAME:CET
DTSTART:20251026T010000
END:STANDARD
BEGIN:DAYLIGHT
TZOFFSETFROM:+0100
TZOFFSETTO:+0200
TZNAME:CEST
DTSTART:20260329T010000
END:DAYLIGHT
BEGIN:STANDARD
TZOFFSETFROM:+0200
TZOFFSETTO:+0100
TZNAME:CET
DTSTART:20261025T010000
END:STANDARD
END:VTIMEZONE
BEGIN:VTIMEZONE
TZID:Europe/Madrid
BEGIN:DAYLIGHT
TZOFFSETFROM:+0100
TZOFFSETTO:+0200
TZNAME:CEST
DTSTART:20240331T010000
END:DAYLIGHT
BEGIN:STANDARD
TZOFFSETFROM:+0200
TZOFFSETTO:+0100
TZNAME:CET
DTSTART:20241027T010000
END:STANDARD
BEGIN:DAYLIGHT
TZOFFSETFROM:+0100
TZOFFSETTO:+0200
TZNAME:CEST
DTSTART:20250330T010000
END:DAYLIGHT
BEGIN:STANDARD
TZOFFSETFROM:+0200
TZOFFSETTO:+0100
TZNAME:CET
DTSTART:20251026T010000
END:STANDARD
BEGIN:DAYLIGHT
TZOFFSETFROM:+0100
TZOFFSETTO:+0200
TZNAME:CEST
DTSTART:20260329T010000
END:DAYLIGHT
BEGIN:STANDARD
TZOFFSETFROM:+0200
TZOFFSETTO:+0100
TZNAME:CET
DTSTART:20261025T010000
END:STANDARD
END:VTIMEZONE
BEGIN:VEVENT
DTSTART;TZID=Europe/Amsterdam:20251004T193000
DTEND;TZID=Europe/Amsterdam:20251004T203000
DTSTAMP:20260419T184238
CREATED:20250916T173333Z
LAST-MODIFIED:20250929T102631Z
UID:10009981-1759606200-1759609800@staging.ondafc.es
SUMMARY:P.D. Betero Saturday 04-10 19.30 1
DESCRIPTION:
URL:https://staging.ondafc.es/calendarevent/p-d-betero-saturday-04-10-19-30-1/
LOCATION:P.D. Betero (art. grass)\, Carrer de Campillo de Altobuey\, 1\,\, Valencia\, Valencia\, 46022\, Spain
ORGANIZER;CN="ONDAFC":MAILTO:pico@ondafc.com
END:VEVENT
BEGIN:VEVENT
DTSTART;TZID=Europe/Amsterdam:20251004T110000
DTEND;TZID=Europe/Amsterdam:20251004T120000
DTSTAMP:20260419T184238
CREATED:20250916T173332Z
LAST-MODIFIED:20250916T173332Z
UID:10009980-1759575600-1759579200@staging.ondafc.es
SUMMARY:P.D. Betero Saturday 04-10 11.00 2
DESCRIPTION:
URL:https://staging.ondafc.es/calendarevent/p-d-betero-saturday-04-10-11-00-2/
LOCATION:P.D. Betero (art. grass)\, Carrer de Campillo de Altobuey\, 1\,\, Valencia\, Valencia\, 46022\, Spain
ORGANIZER;CN="ONDAFC":MAILTO:pico@ondafc.com
END:VEVENT
BEGIN:VEVENT
DTSTART;TZID=Europe/Amsterdam:20251004T103000
DTEND;TZID=Europe/Amsterdam:20251004T160000
DTSTAMP:20260419T184238
CREATED:20250506T091835Z
LAST-MODIFIED:20250506T091835Z
UID:10008862-1759573800-1759593600@staging.ondafc.es
SUMMARY:7v7 Tournament 4-10 (Team ticket)
DESCRIPTION:
URL:https://staging.ondafc.es/calendarevent/7v7-tournament-4-10-team-ticket/
LOCATION:P.D. Betero (art. grass)\, Carrer de Campillo de Altobuey\, 1\,\, Valencia\, Valencia\, 46022\, Spain
ORGANIZER;CN="ONDAFC":MAILTO:pico@ondafc.com
END:VEVENT
BEGIN:VEVENT
DTSTART;TZID=Europe/Amsterdam:20251004T100000
DTEND;TZID=Europe/Amsterdam:20251004T110000
DTSTAMP:20260419T184238
CREATED:20250916T173331Z
LAST-MODIFIED:20250916T173331Z
UID:10009979-1759572000-1759575600@staging.ondafc.es
SUMMARY:P.D. Betero Saturday 04-10 10.00 2
DESCRIPTION:
URL:https://staging.ondafc.es/calendarevent/p-d-betero-saturday-04-10-10-00-2/
LOCATION:P.D. Betero (art. grass)\, Carrer de Campillo de Altobuey\, 1\,\, Valencia\, Valencia\, 46022\, Spain
ORGANIZER;CN="ONDAFC":MAILTO:pico@ondafc.com
END:VEVENT
BEGIN:VEVENT
DTSTART;TZID=Europe/Amsterdam:20251003T200000
DTEND;TZID=Europe/Amsterdam:20251003T210000
DTSTAMP:20260419T184238
CREATED:20250916T173314Z
LAST-MODIFIED:20250916T173314Z
UID:10009976-1759521600-1759525200@staging.ondafc.es
SUMMARY:NOU ONDA Friday 03-10 20.00
DESCRIPTION:
URL:https://staging.ondafc.es/calendarevent/nou-onda-friday-03-10-20-00/
LOCATION:San Jose Escuelas\, Carrer del Pare Barranco\, 13\, Valencia\, Valencia\, 46015\, Spain
ORGANIZER;CN="ONDAFC":MAILTO:pico@ondafc.com
GEO:39.48709866076;-0.4023758054295
X-APPLE-STRUCTURED-LOCATION;VALUE=URI;X-ADDRESS=San Jose Escuelas Carrer del Pare Barranco 13 Valencia Valencia 46015 Spain;X-APPLE-RADIUS=500;X-TITLE=Carrer del Pare Barranco\, 13:geo:-0.4023758054295,39.48709866076
END:VEVENT
BEGIN:VEVENT
DTSTART;TZID=Europe/Amsterdam:20251003T194500
DTEND;TZID=Europe/Amsterdam:20251003T204500
DTSTAMP:20260419T184238
CREATED:20250916T173313Z
LAST-MODIFIED:20250916T173313Z
UID:10009975-1759520700-1759524300@staging.ondafc.es
SUMMARY:C.D. Malilla Friday 03-10 19.45
DESCRIPTION:
URL:https://staging.ondafc.es/calendarevent/c-d-malilla-friday-03-10-19-45/
LOCATION:C.D. Malilla\, Calle Pai Malilla Nte.\, 46026 Valencia\, Valencia\, Valencia\, 46026\, Spain
ORGANIZER;CN="ONDAFC":MAILTO:pico@ondafc.com
GEO:39.4497739.450567744197805;-0.37406835793823667
X-APPLE-STRUCTURED-LOCATION;VALUE=URI;X-ADDRESS=C.D. Malilla Calle Pai Malilla Nte. 46026 Valencia Valencia Valencia 46026 Spain;X-APPLE-RADIUS=500;X-TITLE=Calle Pai Malilla Nte.\, 46026 Valencia:geo:-0.37406835793823667,39.4497739.450567744197805
END:VEVENT
BEGIN:VEVENT
DTSTART;TZID=Europe/Amsterdam:20251003T193000
DTEND;TZID=Europe/Amsterdam:20251003T203000
DTSTAMP:20260419T184238
CREATED:20250916T173313Z
LAST-MODIFIED:20250916T173313Z
UID:10009974-1759519800-1759523400@staging.ondafc.es
SUMMARY:Marxalenes Friday 03-10 19.30
DESCRIPTION:
URL:https://staging.ondafc.es/calendarevent/marxalenes-friday-03-10-19-30/
LOCATION:Marxalenes\, Carrer de Sant Pancraç 29\, Valencia\, Valencia\, 46009\, Spain
ORGANIZER;CN="ONDAFC":MAILTO:pico@ondafc.com
END:VEVENT
BEGIN:VEVENT
DTSTART;TZID=Europe/Amsterdam:20251003T193000
DTEND;TZID=Europe/Amsterdam:20251003T203000
DTSTAMP:20260419T184238
CREATED:20250916T173131Z
LAST-MODIFIED:20250916T173131Z
UID:10009972-1759519800-1759523400@staging.ondafc.es
SUMMARY:Estadio Turia Friday 03-10 19.30
DESCRIPTION:
URL:https://staging.ondafc.es/calendarevent/estadio-turia-friday-03-10-19-30/
LOCATION:Estadio Turia\, Av. de Tirso de Molina\, 18\, Valencia\, Valencia\, 46035\, Spain
ORGANIZER;CN="ONDAFC":MAILTO:pico@ondafc.com
END:VEVENT
BEGIN:VEVENT
DTSTART;TZID=Europe/Amsterdam:20251003T190000
DTEND;TZID=Europe/Amsterdam:20251003T200000
DTSTAMP:20260419T184238
CREATED:20250916T173131Z
LAST-MODIFIED:20250916T173131Z
UID:10009971-1759518000-1759521600@staging.ondafc.es
SUMMARY:NOU ONDA Friday 03-10 19.00
DESCRIPTION:
URL:https://staging.ondafc.es/calendarevent/nou-onda-friday-03-10-19-00/
LOCATION:San Jose Escuelas\, Carrer del Pare Barranco\, 13\, Valencia\, Valencia\, 46015\, Spain
ORGANIZER;CN="ONDAFC":MAILTO:pico@ondafc.com
GEO:39.48709866076;-0.4023758054295
X-APPLE-STRUCTURED-LOCATION;VALUE=URI;X-ADDRESS=San Jose Escuelas Carrer del Pare Barranco 13 Valencia Valencia 46015 Spain;X-APPLE-RADIUS=500;X-TITLE=Carrer del Pare Barranco\, 13:geo:-0.4023758054295,39.48709866076
END:VEVENT
BEGIN:VEVENT
DTSTART;TZID=Europe/Amsterdam:20251003T170000
DTEND;TZID=Europe/Amsterdam:20251003T180000
DTSTAMP:20260419T184238
CREATED:20250916T173130Z
LAST-MODIFIED:20250916T173130Z
UID:10009970-1759510800-1759514400@staging.ondafc.es
SUMMARY:C.D. Malilla Friday 03-10 17.00
DESCRIPTION:
URL:https://staging.ondafc.es/calendarevent/c-d-malilla-friday-03-10-17-00/
LOCATION:C.D. Malilla\, Calle Pai Malilla Nte.\, 46026 Valencia\, Valencia\, Valencia\, 46026\, Spain
ORGANIZER;CN="ONDAFC":MAILTO:pico@ondafc.com
GEO:39.4497739.450567744197805;-0.37406835793823667
X-APPLE-STRUCTURED-LOCATION;VALUE=URI;X-ADDRESS=C.D. Malilla Calle Pai Malilla Nte. 46026 Valencia Valencia Valencia 46026 Spain;X-APPLE-RADIUS=500;X-TITLE=Calle Pai Malilla Nte.\, 46026 Valencia:geo:-0.37406835793823667,39.4497739.450567744197805
END:VEVENT
BEGIN:VEVENT
DTSTART;TZID=Europe/Amsterdam:20251003T110000
DTEND;TZID=Europe/Amsterdam:20251003T120000
DTSTAMP:20260419T184238
CREATED:20250916T173130Z
LAST-MODIFIED:20250916T173130Z
UID:10009969-1759489200-1759492800@staging.ondafc.es
SUMMARY:Turia el Carmen Friday 03-10 11.00
DESCRIPTION:
URL:https://staging.ondafc.es/calendarevent/turia-el-carmen-friday-03-10-11-00/
LOCATION:Turia el Carmen\, Pont de Sant Josep\, Valencia\, Valencia\, 46009\, Spain
ORGANIZER;CN="ONDAFC":MAILTO:pico@ondafc.com
GEO:39.482207;-0.381319
X-APPLE-STRUCTURED-LOCATION;VALUE=URI;X-ADDRESS=Turia el Carmen Pont de Sant Josep Valencia Valencia 46009 Spain;X-APPLE-RADIUS=500;X-TITLE=Pont de Sant Josep:geo:-0.381319,39.482207
END:VEVENT
BEGIN:VEVENT
DTSTART;TZID=Europe/Amsterdam:20251003T100000
DTEND;TZID=Europe/Amsterdam:20251003T110000
DTSTAMP:20260419T184238
CREATED:20250916T173115Z
LAST-MODIFIED:20250916T173115Z
UID:10009968-1759485600-1759489200@staging.ondafc.es
SUMMARY:Turia el Carmen Friday 03-10 10.00
DESCRIPTION:
URL:https://staging.ondafc.es/calendarevent/turia-el-carmen-friday-03-10-10-00/
LOCATION:Turia el Carmen\, Pont de Sant Josep\, Valencia\, Valencia\, 46009\, Spain
ORGANIZER;CN="ONDAFC":MAILTO:pico@ondafc.com
GEO:39.482207;-0.381319
X-APPLE-STRUCTURED-LOCATION;VALUE=URI;X-ADDRESS=Turia el Carmen Pont de Sant Josep Valencia Valencia 46009 Spain;X-APPLE-RADIUS=500;X-TITLE=Pont de Sant Josep:geo:-0.381319,39.482207
END:VEVENT
BEGIN:VEVENT
DTSTART;TZID=Europe/Amsterdam:20251002T213000
DTEND;TZID=Europe/Amsterdam:20251002T223000
DTSTAMP:20260419T184238
CREATED:20250916T173114Z
LAST-MODIFIED:20250916T173114Z
UID:10009967-1759440600-1759444200@staging.ondafc.es
SUMMARY:Historics Thursday 02-10 21.30 3
DESCRIPTION:
URL:https://staging.ondafc.es/calendarevent/historics-thursday-02-10-21-30-3/
LOCATION:C.F. Historics\, Carrer de Just Ramírez\, Valencia\, Valencia\, 46009\, Spain
ORGANIZER;CN="ONDAFC":MAILTO:pico@ondafc.com
END:VEVENT
BEGIN:VEVENT
DTSTART;TZID=Europe/Amsterdam:20251002T211500
DTEND;TZID=Europe/Amsterdam:20251002T221500
DTSTAMP:20260419T184238
CREATED:20250916T173114Z
LAST-MODIFIED:20250916T173114Z
UID:10009966-1759439700-1759443300@staging.ondafc.es
SUMMARY:Historics Thursday 02-10 21.15 2
DESCRIPTION:
URL:https://staging.ondafc.es/calendarevent/historics-thursday-02-10-21-15-2/
LOCATION:C.F. Historics\, Carrer de Just Ramírez\, Valencia\, Valencia\, 46009\, Spain
ORGANIZER;CN="ONDAFC":MAILTO:pico@ondafc.com
END:VEVENT
BEGIN:VEVENT
DTSTART;TZID=Europe/Amsterdam:20251002T211500
DTEND;TZID=Europe/Amsterdam:20251002T221500
DTSTAMP:20260419T184238
CREATED:20250916T173113Z
LAST-MODIFIED:20250916T173113Z
UID:10009965-1759439700-1759443300@staging.ondafc.es
SUMMARY:Historics Thursday 02-10 21.15 1
DESCRIPTION:
URL:https://staging.ondafc.es/calendarevent/historics-thursday-02-10-21-15-1/
LOCATION:C.F. Historics\, Carrer de Just Ramírez\, Valencia\, Valencia\, 46009\, Spain
ORGANIZER;CN="ONDAFC":MAILTO:pico@ondafc.com
END:VEVENT
BEGIN:VEVENT
DTSTART;TZID=Europe/Amsterdam:20251002T200000
DTEND;TZID=Europe/Amsterdam:20251002T210000
DTSTAMP:20260419T184238
CREATED:20250916T172914Z
LAST-MODIFIED:20250916T172914Z
UID:10009962-1759435200-1759438800@staging.ondafc.es
SUMMARY:NOU ONDA Thursday 02-10 20.00
DESCRIPTION:
URL:https://staging.ondafc.es/calendarevent/nou-onda-thursday-02-10-20-00/
LOCATION:San Jose Escuelas\, Carrer del Pare Barranco\, 13\, Valencia\, Valencia\, 46015\, Spain
ORGANIZER;CN="ONDAFC":MAILTO:pico@ondafc.com
GEO:39.48709866076;-0.4023758054295
X-APPLE-STRUCTURED-LOCATION;VALUE=URI;X-ADDRESS=San Jose Escuelas Carrer del Pare Barranco 13 Valencia Valencia 46015 Spain;X-APPLE-RADIUS=500;X-TITLE=Carrer del Pare Barranco\, 13:geo:-0.4023758054295,39.48709866076
END:VEVENT
BEGIN:VEVENT
DTSTART;TZID=Europe/Amsterdam:20251002T200000
DTEND;TZID=Europe/Amsterdam:20251002T210000
DTSTAMP:20260419T184238
CREATED:20250916T172913Z
LAST-MODIFIED:20250930T133602Z
UID:10009960-1759435200-1759438800@staging.ondafc.es
SUMMARY:PJO Futsal Thursday 02-10 20.00
DESCRIPTION:
URL:https://staging.ondafc.es/calendarevent/esj-futsal-thursday-02-10-20-00/
LOCATION:Colegio Sagrada Familia PJO\, C/ del Poeta Ricard Sanmartí\, 3\, Valencia\, Valencia\, 46020\, Spain
ORGANIZER;CN="ONDAFC":MAILTO:pico@ondafc.com
END:VEVENT
BEGIN:VEVENT
DTSTART;TZID=Europe/Amsterdam:20251002T193000
DTEND;TZID=Europe/Amsterdam:20251002T203000
DTSTAMP:20260419T184238
CREATED:20250916T172914Z
LAST-MODIFIED:20250916T172914Z
UID:10009961-1759433400-1759437000@staging.ondafc.es
SUMMARY:Marxalenes Thursday 02-10 19.30
DESCRIPTION:
URL:https://staging.ondafc.es/calendarevent/marxalenes-thursday-02-10-19-30/
LOCATION:Marxalenes\, Carrer de Sant Pancraç 29\, Valencia\, Valencia\, 46009\, Spain
ORGANIZER;CN="ONDAFC":MAILTO:pico@ondafc.com
END:VEVENT
BEGIN:VEVENT
DTSTART;TZID=Europe/Madrid:20251002T190000
DTEND;TZID=Europe/Madrid:20251002T200000
DTSTAMP:20260419T184238
CREATED:20251001T092350Z
LAST-MODIFIED:20251001T092350Z
UID:10010125-1759431600-1759435200@staging.ondafc.es
SUMMARY:Turia el Carmen Thursday 2-10 19.00
DESCRIPTION:
URL:https://staging.ondafc.es/calendarevent/turia-el-carmen-thursday-2-10-19-00/
LOCATION:Turia el Carmen\, Pont de Sant Josep\, Valencia\, Valencia\, 46009\, Spain
ORGANIZER;CN="ONDAFC":MAILTO:pico@ondafc.com
GEO:39.482207;-0.381319
X-APPLE-STRUCTURED-LOCATION;VALUE=URI;X-ADDRESS=Turia el Carmen Pont de Sant Josep Valencia Valencia 46009 Spain;X-APPLE-RADIUS=500;X-TITLE=Pont de Sant Josep:geo:-0.381319,39.482207
END:VEVENT
BEGIN:VEVENT
DTSTART;TZID=Europe/Amsterdam:20251002T190000
DTEND;TZID=Europe/Amsterdam:20251002T200000
DTSTAMP:20260419T184238
CREATED:20250916T172912Z
LAST-MODIFIED:20250916T172912Z
UID:10009959-1759431600-1759435200@staging.ondafc.es
SUMMARY:NOU ONDA Thursday 02-10 19.00
DESCRIPTION:
URL:https://staging.ondafc.es/calendarevent/nou-onda-thursday-02-10-19-00/
LOCATION:San Jose Escuelas\, Carrer del Pare Barranco\, 13\, Valencia\, Valencia\, 46015\, Spain
ORGANIZER;CN="ONDAFC":MAILTO:pico@ondafc.com
GEO:39.48709866076;-0.4023758054295
X-APPLE-STRUCTURED-LOCATION;VALUE=URI;X-ADDRESS=San Jose Escuelas Carrer del Pare Barranco 13 Valencia Valencia 46015 Spain;X-APPLE-RADIUS=500;X-TITLE=Carrer del Pare Barranco\, 13:geo:-0.4023758054295,39.48709866076
END:VEVENT
BEGIN:VEVENT
DTSTART;TZID=Europe/Amsterdam:20251002T183000
DTEND;TZID=Europe/Amsterdam:20251002T193000
DTSTAMP:20260419T184238
CREATED:20250916T172714Z
LAST-MODIFIED:20250916T172714Z
UID:10009958-1759429800-1759433400@staging.ondafc.es
SUMMARY:Marxalenes Thursday 02-10 18.30
DESCRIPTION:
URL:https://staging.ondafc.es/calendarevent/marxalenes-thursday-02-10-18-30/
LOCATION:Marxalenes\, Carrer de Sant Pancraç 29\, Valencia\, Valencia\, 46009\, Spain
ORGANIZER;CN="ONDAFC":MAILTO:pico@ondafc.com
END:VEVENT
BEGIN:VEVENT
DTSTART;TZID=Europe/Amsterdam:20251001T210000
DTEND;TZID=Europe/Amsterdam:20251001T220000
DTSTAMP:20260419T184238
CREATED:20250916T172713Z
LAST-MODIFIED:20250916T172713Z
UID:10009956-1759352400-1759356000@staging.ondafc.es
SUMMARY:NOU ONDA Wednesday 01-10 21.00
DESCRIPTION:
URL:https://staging.ondafc.es/calendarevent/nou-onda-wednesday-01-10-21-00/
LOCATION:San Jose Escuelas\, Carrer del Pare Barranco\, 13\, Valencia\, Valencia\, 46015\, Spain
ORGANIZER;CN="ONDAFC":MAILTO:pico@ondafc.com
GEO:39.48709866076;-0.4023758054295
X-APPLE-STRUCTURED-LOCATION;VALUE=URI;X-ADDRESS=San Jose Escuelas Carrer del Pare Barranco 13 Valencia Valencia 46015 Spain;X-APPLE-RADIUS=500;X-TITLE=Carrer del Pare Barranco\, 13:geo:-0.4023758054295,39.48709866076
END:VEVENT
BEGIN:VEVENT
DTSTART;TZID=Europe/Amsterdam:20251001T203000
DTEND;TZID=Europe/Amsterdam:20251001T213000
DTSTAMP:20260419T184238
CREATED:20250916T172713Z
LAST-MODIFIED:20250916T172713Z
UID:10009955-1759350600-1759354200@staging.ondafc.es
SUMMARY:Historics Wednesday 01-10 20.30 3
DESCRIPTION:
URL:https://staging.ondafc.es/calendarevent/historics-wednesday-01-10-20-30-3/
LOCATION:C.F. Historics\, Carrer de Just Ramírez\, Valencia\, Valencia\, 46009\, Spain
ORGANIZER;CN="ONDAFC":MAILTO:pico@ondafc.com
END:VEVENT
BEGIN:VEVENT
DTSTART;TZID=Europe/Amsterdam:20251001T200000
DTEND;TZID=Europe/Amsterdam:20251001T210000
DTSTAMP:20260419T184238
CREATED:20250916T172712Z
LAST-MODIFIED:20250916T172712Z
UID:10009954-1759348800-1759352400@staging.ondafc.es
SUMMARY:NOU ONDA Wednesday 01-10 20.00
DESCRIPTION:
URL:https://staging.ondafc.es/calendarevent/nou-onda-wednesday-01-10-20-00/
LOCATION:San Jose Escuelas\, Carrer del Pare Barranco\, 13\, Valencia\, Valencia\, 46015\, Spain
ORGANIZER;CN="ONDAFC":MAILTO:pico@ondafc.com
GEO:39.48709866076;-0.4023758054295
X-APPLE-STRUCTURED-LOCATION;VALUE=URI;X-ADDRESS=San Jose Escuelas Carrer del Pare Barranco 13 Valencia Valencia 46015 Spain;X-APPLE-RADIUS=500;X-TITLE=Carrer del Pare Barranco\, 13:geo:-0.4023758054295,39.48709866076
END:VEVENT
BEGIN:VEVENT
DTSTART;TZID=Europe/Amsterdam:20251001T190000
DTEND;TZID=Europe/Amsterdam:20251001T200000
DTSTAMP:20260419T184238
CREATED:20250916T172514Z
LAST-MODIFIED:20250916T172514Z
UID:10009952-1759345200-1759348800@staging.ondafc.es
SUMMARY:NOU ONDA Wednesday 01-10 19.00
DESCRIPTION:
URL:https://staging.ondafc.es/calendarevent/nou-onda-wednesday-01-10-19-00/
LOCATION:San Jose Escuelas\, Carrer del Pare Barranco\, 13\, Valencia\, Valencia\, 46015\, Spain
ORGANIZER;CN="ONDAFC":MAILTO:pico@ondafc.com
GEO:39.48709866076;-0.4023758054295
X-APPLE-STRUCTURED-LOCATION;VALUE=URI;X-ADDRESS=San Jose Escuelas Carrer del Pare Barranco 13 Valencia Valencia 46015 Spain;X-APPLE-RADIUS=500;X-TITLE=Carrer del Pare Barranco\, 13:geo:-0.4023758054295,39.48709866076
END:VEVENT
BEGIN:VEVENT
DTSTART;TZID=Europe/Amsterdam:20251001T183000
DTEND;TZID=Europe/Amsterdam:20251001T193000
DTSTAMP:20260419T184238
CREATED:20250916T172513Z
LAST-MODIFIED:20250916T172513Z
UID:10009950-1759343400-1759347000@staging.ondafc.es
SUMMARY:P.D. Betero Wednesday 01-10 18.30 2
DESCRIPTION:
URL:https://staging.ondafc.es/calendarevent/p-d-betero-wednesday-01-10-18-30-2/
LOCATION:P.D. Betero (art. grass)\, Carrer de Campillo de Altobuey\, 1\,\, Valencia\, Valencia\, 46022\, Spain
ORGANIZER;CN="ONDAFC":MAILTO:pico@ondafc.com
END:VEVENT
BEGIN:VEVENT
DTSTART;TZID=Europe/Amsterdam:20251001T163000
DTEND;TZID=Europe/Amsterdam:20251001T173000
DTSTAMP:20260419T184238
CREATED:20250916T172512Z
LAST-MODIFIED:20250916T172512Z
UID:10009949-1759336200-1759339800@staging.ondafc.es
SUMMARY:P.D. Betero Wednesday 01-10 16.30 1
DESCRIPTION:
URL:https://staging.ondafc.es/calendarevent/p-d-betero-wednesday-01-10-16-30-1/
LOCATION:P.D. Betero (art. grass)\, Carrer de Campillo de Altobuey\, 1\,\, Valencia\, Valencia\, 46022\, Spain
ORGANIZER;CN="ONDAFC":MAILTO:pico@ondafc.com
END:VEVENT
BEGIN:VEVENT
DTSTART;TZID=Europe/Amsterdam:20251001T100000
DTEND;TZID=Europe/Amsterdam:20251001T160000
DTSTAMP:20260419T184238
CREATED:20250506T091849Z
LAST-MODIFIED:20250506T091849Z
UID:10008868-1759312800-1759334400@staging.ondafc.es
SUMMARY:Business Tournament November
DESCRIPTION:
URL:https://staging.ondafc.es/calendarevent/business-tournament-november/
ORGANIZER;CN="ONDAFC":MAILTO:pico@ondafc.com
END:VEVENT
BEGIN:VEVENT
DTSTART;TZID=Europe/Amsterdam:20251001T100000
DTEND;TZID=Europe/Amsterdam:20251001T110000
DTSTAMP:20260419T184238
CREATED:20250916T172314Z
LAST-MODIFIED:20250916T172314Z
UID:10009948-1759312800-1759316400@staging.ondafc.es
SUMMARY:Turia el Carmen Wednesday 01-10 10:00
DESCRIPTION:
URL:https://staging.ondafc.es/calendarevent/turia-el-carmen-wednesday-01-10-1000/
LOCATION:Turia el Carmen\, Pont de Sant Josep\, Valencia\, Valencia\, 46009\, Spain
ORGANIZER;CN="ONDAFC":MAILTO:pico@ondafc.com
GEO:39.482207;-0.381319
X-APPLE-STRUCTURED-LOCATION;VALUE=URI;X-ADDRESS=Turia el Carmen Pont de Sant Josep Valencia Valencia 46009 Spain;X-APPLE-RADIUS=500;X-TITLE=Pont de Sant Josep:geo:-0.381319,39.482207
END:VEVENT
BEGIN:VEVENT
DTSTART;TZID=Europe/Amsterdam:20251001T010000
DTEND;TZID=Europe/Amsterdam:20251031T233000
DTSTAMP:20260419T184238
CREATED:20250930T131846Z
LAST-MODIFIED:20251012T112501Z
UID:10010059-1759280400-1761953400@staging.ondafc.es
SUMMARY:Challenge: Speed Gamer - Oct
DESCRIPTION:
URL:https://staging.ondafc.es/calendarevent/challenge-speed-gamer-oct/
ORGANIZER;CN="ONDAFC":MAILTO:pico@ondafc.com
END:VEVENT
END:VCALENDAR